BEGIN:VCALENDAR
VERSION:2.0
PRODID:-//Immigrants Working Centre - ECPv6.15.15//NONSGML v1.0//EN
CALSCALE:GREGORIAN
METHOD:PUBLISH
X-ORIGINAL-URL:https://iwchamilton.ca
X-WR-CALDESC:Events for Immigrants Working Centre
REFRESH-INTERVAL;VALUE=DURATION:PT1H
X-Robots-Tag:noindex
X-PUBLISHED-TTL:PT1H
BEGIN:VTIMEZONE
TZID:America/Toronto
BEGIN:DAYLIGHT
TZOFFSETFROM:-0500
TZOFFSETTO:-0400
TZNAME:EDT
DTSTART:20200308T070000
END:DAYLIGHT
BEGIN:STANDARD
TZOFFSETFROM:-0400
TZOFFSETTO:-0500
TZNAME:EST
DTSTART:20201101T060000
END:STANDARD
BEGIN:DAYLIGHT
TZOFFSETFROM:-0500
TZOFFSETTO:-0400
TZNAME:EDT
DTSTART:20210314T070000
END:DAYLIGHT
BEGIN:STANDARD
TZOFFSETFROM:-0400
TZOFFSETTO:-0500
TZNAME:EST
DTSTART:20211107T060000
END:STANDARD
BEGIN:DAYLIGHT
TZOFFSETFROM:-0500
TZOFFSETTO:-0400
TZNAME:EDT
DTSTART:20220313T070000
END:DAYLIGHT
BEGIN:STANDARD
TZOFFSETFROM:-0400
TZOFFSETTO:-0500
TZNAME:EST
DTSTART:20221106T060000
END:STANDARD
END:VTIMEZONE
BEGIN:VEVENT
DTSTART;VALUE=DATE:20210920
DTEND;VALUE=DATE:20210921
DTSTAMP:20260419T165907
CREATED:20210916T194314Z
LAST-MODIFIED:20210928T173329Z
UID:7885-1632096000-1632182399@iwchamilton.ca
SUMMARY:Online English Classes - Register Now!
DESCRIPTION:Language Instruction for Newcomers (LINC)  \nWe’re still accepting new and returning students for the morning\, afternoon\, and evening and shift worker’s class. \nRead more about our English Classes here! \nFor more information or client referrals\, contact linctowork@iwchamilton.ca 
URL:https://iwchamilton.ca/event/online-english-classes/
LOCATION:Online
CATEGORIES:English Classes (LINC)
ATTACH;FMTTYPE=image/png:https://iwchamilton.ca/wp-content/uploads/2021/09/3-1.png
END:VEVENT
END:VCALENDAR